BEGIN:VCALENDAR
VERSION:2.0
PRODID:-//hacksw/handcal//NONSGML v1.0//EN
CALSCALE:GREGORIAN
BEGIN:VEVENT
ORGANIZER;CN=American States Water Company:MAILTO:no-reply@mail.gcs-web.com
DTEND:
UID:b8660fe7-09cd-4c9a-ab75-1b8d223419ab
DTSTAMP:1776878163
LOCATION:https://edge.media-server.com/mmc/p/9m2s6t92
DESCRIPTION:Event Details https://americanstateswatercompany.gcs-web.com/events/event-details/q1-2026-american-states-water-earnings-conference-call\n\nWebcast: https://edge.media-server.com/mmc/p/9m2s6t92
URL;VALUE=URI:https://edge.media-server.com/mmc/p/9m2s6t92
SUMMARY:American States Water Company - Q1 2026 American States Water Earnings Conference Call
DTSTART:20260507T180000Z
END:VEVENT
END:VCALENDAR